BEGIN:VCALENDAR
VERSION:2.0
PRODID:-//wp-events-plugin.com//6.6.4.4//EN
BEGIN:VEVENT
UID:5@dvoc.in
DTSTART;TZID=Asia/Kolkata:20201109T160000
DTEND;TZID=Asia/Kolkata:20201109T180000
DTSTAMP:20201106T033330Z
URL:https://www.dvoc.in/events/photoshop/
SUMMARY:Photoshop
DESCRIPTION:Learn how to Create Beautiful Images\, Graphics\, Paintings\, a
 nd 3D Artwork On Your Desktop And iPad. \n\nIf You Can Dream It\, You Can 
 Make It With Photoshop.
ATTACH;FMTTYPE=image/jpeg:https://www.dvoc.in/wp-content/uploads/2020/09/I
 mage-1.jpg
CATEGORIES:November 2020
END:VEVENT
BEGIN:VEVENT
UID:7@dvoc.in
DTSTART;TZID=Asia/Kolkata:20201125T170000
DTEND;TZID=Asia/Kolkata:20201125T190000
DTSTAMP:20201125T045542Z
URL:https://www.dvoc.in/events/programming-in-java/
SUMMARY:Programming in Java
DESCRIPTION:Master the most popular programming language in the IT developm
 ent world – Java. \n\nGive a big boost to your career\, right from the s
 tart.
ATTACH;FMTTYPE=image/jpeg:https://www.dvoc.in/wp-content/uploads/2020/10/J
 ava-Programming-Using-BlueJ.jpg
CATEGORIES:November 2020
END:VEVENT
BEGIN:VEVENT
UID:13@dvoc.in
DTSTART;TZID=Asia/Kolkata:20210107T160000
DTEND;TZID=Asia/Kolkata:20210107T180000
DTSTAMP:20201214T091321Z
URL:https://www.dvoc.in/events/free-workshop-on-data-analysis-using-advanc
 ed-excel-power-bi/
SUMMARY:Free Workshop on Data Analysis Using Advanced Excel & Power BI
DESCRIPTION:Master the advanced features of Microsoft Office Excel to be mo
 re productive. \n\nLearn analysing data and visualizing data with Advanced
  Excel. \n\nLearn to build & publish dashboards in Power BI by Microsoft.
ATTACH;FMTTYPE=image/jpeg:https://www.dvoc.in/wp-content/uploads/2020/10/W
 orking-With-Advanced-Excel.jpg
CATEGORIES:January 2021
END:VEVENT
BEGIN:VEVENT
UID:14@dvoc.in
DTSTART;TZID=Asia/Kolkata:20210116T160000
DTEND;TZID=Asia/Kolkata:20210116T180000
DTSTAMP:20201214T091331Z
URL:https://www.dvoc.in/events/free-workshop-on-python-programming/
SUMMARY:Free Workshop on Python Programming
DESCRIPTION:Python is one of the most fastest-growing programming languages
  in the world driven by its application in machine learning.\n\nThis progr
 amme helps learners gain a hands-on understanding of python programming al
 ong with its application for data analysis and visualization\, with the us
 e of machine learning algorithms that are required in the data analytics i
 ndustry.
ATTACH;FMTTYPE=image/jpeg:https://www.dvoc.in/wp-content/uploads/2020/10/J
 ava-Programming-Using-BlueJ.jpg
CATEGORIES:January 2021
END:VEVENT
BEGIN:VEVENT
UID:4@dvoc.in
DTSTART;TZID=Asia/Kolkata:20210612T160000
DTEND;TZID=Asia/Kolkata:20210612T170000
DTSTAMP:20210605T072840Z
URL:https://www.dvoc.in/events/python-workshop/
SUMMARY:Free Demo on Python Programming
DESCRIPTION:Learn one of the fast growing programming Language.\n\nLearn ho
 w to write programs using Python.\n\nLearn how various applications are de
 veloped using Python.
ATTACH;FMTTYPE=image/jpeg:https://www.dvoc.in/wp-content/uploads/2020/10/J
 ava-Programming-Using-BlueJ.jpg
END:VEVENT
BEGIN:VEVENT
UID:1@dvoc.in
DTSTART;TZID=Asia/Kolkata:20210617T160000
DTEND;TZID=Asia/Kolkata:20210617T170000
DTSTAMP:20210605T073101Z
URL:https://www.dvoc.in/events/tally-workshop/
SUMMARY:Free Demo on Social Media Marketing
DESCRIPTION:Learn the power of Digital Marketing\n\nLearn how brands use so
 cial media marketing for their business\n\nLearn how to use platforms like
  Facebook\, Instagram\, Twitter and many more.
ATTACH;FMTTYPE=image/jpeg:https://www.dvoc.in/wp-content/uploads/2020/10/S
 ocial-Media-Marketing.jpg
CATEGORIES:October 2020 Workshops
END:VEVENT
BEGIN:VEVENT
UID:8@dvoc.in
DTSTART;TZID=Asia/Kolkata:20210623T160000
DTEND;TZID=Asia/Kolkata:20210623T170000
DTSTAMP:20210605T073139Z
URL:https://www.dvoc.in/events/free-workshop-on-graphic-designing/
SUMMARY:Free Demo on Graphic Designing
DESCRIPTION:Learn how to Create Beautiful Images\, Graphics\, Paintings\, L
 ogos And 3D Artwork On Your Desktop And iPad.\n\nIf You Can Dream It\, You
  Can Make It True with Photoshop\, Illustrator &amp\; InDesign.
ATTACH;FMTTYPE=image/jpeg:https://www.dvoc.in/wp-content/uploads/2020/09/I
 mage-1.jpg
CATEGORIES:June 2021
END:VEVENT
BEGIN:VEVENT
UID:12@dvoc.in
DTSTART;TZID=Asia/Kolkata:20210915T170000
DTEND;TZID=Asia/Kolkata:20210915T180000
DTSTAMP:20210914T181841Z
URL:https://www.dvoc.in/events/free-workshop-on-tally/
SUMMARY:Free Demo on Tally Prime
DESCRIPTION:Learn the most popular business accounting software.\n\nLearn t
 o record business transactions and manage account information.\n\nLearn ho
 w to effectively manage accounting and inventory
ATTACH;FMTTYPE=image/jpeg:https://www.dvoc.in/wp-content/uploads/2020/10/a
 ccounting-1.jpg
CATEGORIES:June 2021
END:VEVENT
BEGIN:VEVENT
UID:6@dvoc.in
DTSTART;TZID=Asia/Kolkata:20210918T170000
DTEND;TZID=Asia/Kolkata:20210918T180000
DTSTAMP:20210914T182425Z
URL:https://www.dvoc.in/events/data-analytics-using-advanced-excel-and-pow
 erbi-2/
SUMMARY:Free Demo on Data Analytics
DESCRIPTION:Master the Tools to be a Data Analyst.\n\nLearn analyzing data 
 and visualizing data with Advanced Excel.\n\nLearn to build &amp\; publish
  dashboards in Power BI by Microsoft.
ATTACH;FMTTYPE=image/jpeg:https://www.dvoc.in/wp-content/uploads/2020/10/c
 -programming.jpg
CATEGORIES:June 2021
END:VEVENT
BEGIN:VTIMEZONE
TZID:Asia/Kolkata
X-LIC-LOCATION:Asia/Kolkata
BEGIN:STANDARD
DTSTART:20191110T160000
TZOFFSETFROM:+0530
TZOFFSETTO:+0530
TZNAME:IST
END:STANDARD
END:VTIMEZONE
END:VCALENDAR