BEGIN:VCALENDAR
VERSION:2.0
PRODID:-//DVOC INSTITUTE - ECPv6.10.2//NONSGML v1.0//EN
CALSCALE:GREGORIAN
METHOD:PUBLISH
X-ORIGINAL-URL:https://www.dvoc.in
X-WR-CALDESC:Events for DVOC INSTITUTE
REFRESH-INTERVAL;VALUE=DURATION:PT1H
X-Robots-Tag:noindex
X-PUBLISHED-TTL:PT1H
BEGIN:VTIMEZONE
TZID:Asia/Kolkata
BEGIN:STANDARD
TZOFFSETFROM:+0530
TZOFFSETTO:+0530
TZNAME:IST
DTSTART:20220101T000000
END:STANDARD
END:VTIMEZONE
BEGIN:VEVENT
DTSTART;TZID=Asia/Kolkata:20220825T170000
DTEND;TZID=Asia/Kolkata:20220825T180000
DTSTAMP:20260421T191322
CREATED:20220817T155728Z
LAST-MODIFIED:20220817T155903Z
UID:16989-1661446800-1661450400@www.dvoc.in
SUMMARY:Social Media Marketing
DESCRIPTION:Event Date:\n\n\n\n\n\n\n\n\n\nLearn the power of Digital Marketing with our Free Workshop on 25th August 2022. Social media marketing helps marketers to connect with customers. It also allows to increase brand activity\, generates traffic\, increases revenue\, and many more. \nThis workshop will enable you to learn how to use platforms like Facebook\, Instagram\, Twitter\, and many more to grow your business with Social Media Marketing.
URL:https://www.dvoc.in/event/social-media-marketing/
CATEGORIES:2022
ATTACH;FMTTYPE=image/jpeg:https://www.dvoc.in/wp-content/uploads/2022/08/SMM.jpg
END:VEVENT
BEGIN:VEVENT
DTSTART;TZID=Asia/Kolkata:20220823T170000
DTEND;TZID=Asia/Kolkata:20220823T180000
DTSTAMP:20260421T191322
CREATED:20220817T155501Z
LAST-MODIFIED:20220817T155702Z
UID:16986-1661274000-1661277600@www.dvoc.in
SUMMARY:Graphic Designing
DESCRIPTION:Event Date:\n\n\n\n\n\n\n\n\n\nLearn how to Create Beautiful Images\, Graphics\, Paintings\, Logos\, and 3D Artwork On Your Computer using the most in-demand software for Graphic Designing which are Photoshop\, Illustrator\, and InDesign in our free Workshop on 23rd August 2022 at 05:00 pm. \nIf You Can Dream It\, You Can Make It True with Photoshop\, Illustrator & InDesign.
URL:https://www.dvoc.in/event/graphic-designing/
CATEGORIES:2022
ATTACH;FMTTYPE=image/jpeg:https://www.dvoc.in/wp-content/uploads/2022/08/GD.jpg
END:VEVENT
BEGIN:VEVENT
DTSTART;TZID=Asia/Kolkata:20220818T170000
DTEND;TZID=Asia/Kolkata:20220818T180000
DTSTAMP:20260421T191322
CREATED:20220817T154530Z
LAST-MODIFIED:20220817T154624Z
UID:16962-1660842000-1660845600@www.dvoc.in
SUMMARY:Tally Prime
DESCRIPTION:Event Date:\n\n\n\n\n\n\n\n\n\nTally Prime is the most popular business accounting software used in any industry to maintain their financial transactions. Almost 2.5 million businesses run on Tally. \nAttend this free workshop and learn how to record business transactions and manage accounting information using the latest version of Tally i.e. Tally Prime. \nLearn how to effectively manage accounting and inventory with our Free Workshop scheduled on 18th August 2022 at 05:00 pm from our expert trainers.
URL:https://www.dvoc.in/event/tally-prime/
CATEGORIES:2022
ATTACH;FMTTYPE=image/jpeg:https://www.dvoc.in/wp-content/uploads/2022/08/Tally_Prime.jpg
END:VEVENT
END:VCALENDAR